BEGIN:VCALENDAR
VERSION:2.0
PRODID:-//Tukios.com/
BEGIN:VEVENT
UID:706cbec1-427d-4c90-8dad-fe6762920eca@www.mcfarlandfuneralchapel.com
DTSTAMP:20260421T001144Z
DTSTART:20260425T200000Z
DTEND:20260425T210000Z
SUMMARY:Funeral Service
DESCRIPTION:
URL:https://www.mcfarlandfuneralchapel.com/obituaries/helen-johansen
LOCATION:Fork Creek Baptist Church 1105 Fork Creek Road  Saluda NC 28773
GEO:35.2088266;-82.3211735
END:VEVENT
END:VCALENDAR