BEGIN:VCALENDAR
VERSION:2.0
PRODID:-//Tukios.com/
BEGIN:VEVENT
UID:dd66dce8-cc26-453d-96c4-1bf72f7ba161@www.mcfarlandfuneralchapel.com
DTSTAMP:20260421T001647Z
DTSTART:20260425T203000Z
DTEND:20260425T213000Z
SUMMARY:Burial
DESCRIPTION:
URL:https://www.mcfarlandfuneralchapel.com/obituaries/helen-johansen
LOCATION: 1105 Fork Creek Road  Saluda NC 28773
GEO:35.2088266;-82.3211735
END:VEVENT
END:VCALENDAR