BEGIN:VCALENDAR
VERSION:2.0
PRODID:-//Tukios.com/
BEGIN:VEVENT
UID:fb1c26ca-2628-4c1e-aa36-7276db8e638c@www.mcfarlandfuneralchapel.com
DTSTAMP:20260423T211841Z
DTSTART:20260426T180000Z
DTEND:20260426T190000Z
SUMMARY:Graveside Service
DESCRIPTION:
URL:https://www.mcfarlandfuneralchapel.com/obituaries/donna-steppe
LOCATION:Lebanon Methodist Church 2330 Big Level Road  Mill Spring NC 
	28756
GEO:35.3530229;-82.1189683
END:VEVENT
END:VCALENDAR