BEGIN:VCALENDAR
VERSION:2.0
PRODID:-//Tukios.com/
BEGIN:VEVENT
UID:8bddf36f-d638-4c62-a53f-2b23c5e05629@www.mcfarlandfuneralchapel.com
DTSTAMP:20260425T001537Z
DTSTART:20260516T180000Z
DTEND:20260516T200000Z
SUMMARY:Memorial Service
DESCRIPTION:
URL:https://www.mcfarlandfuneralchapel.com/obituaries/donald-schweitzer
LOCATION:Winthrop Baptist Church 444 Winthrop Rd  Deep River CT 06417
GEO:41.3607274;-72.492865
END:VEVENT
END:VCALENDAR